BEGIN:VCALENDAR
VERSION:2.0
PRODID:-//Advanced - ECPv6.15.20//NONSGML v1.0//EN
CALSCALE:GREGORIAN
METHOD:PUBLISH
X-ORIGINAL-URL:https://cloned.dvagtc.com
X-WR-CALDESC:Events for Advanced
REFRESH-INTERVAL;VALUE=DURATION:PT1H
X-Robots-Tag:noindex
X-PUBLISHED-TTL:PT1H
BEGIN:VTIMEZONE
TZID:America/New_York
BEGIN:DAYLIGHT
TZOFFSETFROM:-0500
TZOFFSETTO:-0400
TZNAME:EDT
DTSTART:20250309T070000
END:DAYLIGHT
BEGIN:STANDARD
TZOFFSETFROM:-0400
TZOFFSETTO:-0500
TZNAME:EST
DTSTART:20251102T060000
END:STANDARD
BEGIN:DAYLIGHT
TZOFFSETFROM:-0500
TZOFFSETTO:-0400
TZNAME:EDT
DTSTART:20260308T070000
END:DAYLIGHT
BEGIN:STANDARD
TZOFFSETFROM:-0400
TZOFFSETTO:-0500
TZNAME:EST
DTSTART:20261101T060000
END:STANDARD
BEGIN:DAYLIGHT
TZOFFSETFROM:-0500
TZOFFSETTO:-0400
TZNAME:EDT
DTSTART:20270314T070000
END:DAYLIGHT
BEGIN:STANDARD
TZOFFSETFROM:-0400
TZOFFSETTO:-0500
TZNAME:EST
DTSTART:20271107T060000
END:STANDARD
END:VTIMEZONE
BEGIN:VEVENT
DTSTART;TZID=America/New_York:20260416T080000
DTEND;TZID=America/New_York:20260416T170000
DTSTAMP:20260423T194823
CREATED:20260326T163226Z
LAST-MODIFIED:20260326T163226Z
UID:2977-1776326400-1776358800@cloned.dvagtc.com
SUMMARY:Cookin' with the Cockroaches
DESCRIPTION:Papa Roach the provider of the family has died\, Mama Roach now has her hands full with 4 jobs and 10 kids. Help a new single mom by our potluck evening\, come together as a community!
URL:https://cloned.dvagtc.com/event/cookin-with-the-cockroaches/
LOCATION:Bugtopia\, 2522 Locust Hill Road\, Taylors\, SC\, 29687\, United States
END:VEVENT
END:VCALENDAR