BEGIN:VCALENDAR
VERSION:2.0
PRODID:-//Advanced - ECPv6.15.20//NONSGML v1.0//EN
CALSCALE:GREGORIAN
METHOD:PUBLISH
X-WR-CALNAME:Advanced
X-ORIGINAL-URL:https://cloned.dvagtc.com
X-WR-CALDESC:Events for Advanced
REFRESH-INTERVAL;VALUE=DURATION:PT1H
X-Robots-Tag:noindex
X-PUBLISHED-TTL:PT1H
BEGIN:VTIMEZONE
TZID:America/New_York
BEGIN:DAYLIGHT
TZOFFSETFROM:-0500
TZOFFSETTO:-0400
TZNAME:EDT
DTSTART:20250309T070000
END:DAYLIGHT
BEGIN:STANDARD
TZOFFSETFROM:-0400
TZOFFSETTO:-0500
TZNAME:EST
DTSTART:20251102T060000
END:STANDARD
BEGIN:DAYLIGHT
TZOFFSETFROM:-0500
TZOFFSETTO:-0400
TZNAME:EDT
DTSTART:20260308T070000
END:DAYLIGHT
BEGIN:STANDARD
TZOFFSETFROM:-0400
TZOFFSETTO:-0500
TZNAME:EST
DTSTART:20261101T060000
END:STANDARD
BEGIN:DAYLIGHT
TZOFFSETFROM:-0500
TZOFFSETTO:-0400
TZNAME:EDT
DTSTART:20270314T070000
END:DAYLIGHT
BEGIN:STANDARD
TZOFFSETFROM:-0400
TZOFFSETTO:-0500
TZNAME:EST
DTSTART:20271107T060000
END:STANDARD
END:VTIMEZONE
BEGIN:VEVENT
DTSTART;TZID=America/New_York:20260324T080000
DTEND;TZID=America/New_York:20260324T170000
DTSTAMP:20260423T212325
CREATED:20260324T163331Z
LAST-MODIFIED:20260324T163331Z
UID:2899-1774339200-1774371600@cloned.dvagtc.com
SUMMARY:Dance Battle with Lady B
DESCRIPTION:The ladybugs want to dance\, be prepared to buggy on down
URL:https://cloned.dvagtc.com/event/dance-battle-with-lady-b/
LOCATION:Bar\, 2522 Locust Hill Road\, Taylors\, SC\, 29687\, United States
END:VEVENT
BEGIN:VEVENT
DTSTART;TZID=America/New_York:20260324T110000
DTEND;TZID=America/New_York:20260324T140000
DTSTAMP:20260423T212325
CREATED:20260324T161928Z
LAST-MODIFIED:20260324T161928Z
UID:2887-1774350000-1774360800@cloned.dvagtc.com
SUMMARY:Caterpillar Talk
DESCRIPTION:Did you know you\, can make caterpillars talk?
URL:https://cloned.dvagtc.com/event/caterpillar-talk/
LOCATION:Bugtopia\, 2522 Locust Hill Road\, Taylors\, SC\, 29687\, United States
END:VEVENT
END:VCALENDAR